BEGIN:VCALENDAR
VERSION:2.0
PRODID:gruene-lippe.de
METHOD:PUBLISH
BEGIN:VTIMEZONE
TZID:Europe/Berlin
X-LIC-LOCATION:Europe/Berlin
BEGIN:DAYLIGHT
TZOFFSETFROM:+0100
TZOFFSETTO:+0200
TZNAME:CEST
DTSTART:19700329T020000
RRULE:FREQ=YEARLY;INTERVAL=1;BYDAY=-1SU;BYMONTH=3
END:DAYLIGHT
BEGIN:STANDARD
TZOFFSETFROM:+0200
TZOFFSETTO:+0100
TZNAME:CET
DTSTART:19701025T030000
RRULE:FREQ=YEARLY;INTERVAL=1;BYDAY=-1SU;BYMONTH=10
END:STANDARD
END:VTIMEZONE
BEGIN:VEVENT
UID:<span class="__eae_r13">p44767oq4035316p486s83pnqs0890p4@tehrar-yvccr.qr</span>
URL;VALUE=URI:https://gruene-lippe.de/termine/sven-giegold/
LOCATION:Beller Feld, Horn-Bad Meinberg
SUMMARY:Sven Giegold: Kein Platz für Amazon
DESCRIPTION;ALTREP="data:text/html,%3Chr%20%2F%3E%0D%0A%0D%0AAm%20kommend
 en%20Mittwoch%2C%20d.%2022.09.%2C%20kommt%20der%20Europa-Abgeordnete%20Sv
 en%20Giegold%20nach%20Lippe.%0D%0AMit%20den%20beiden%20lippischen%20Bunde
 stagskandidaten%20Robin%20Wagener%20%28Wahlkreis%20135%2FLippe%20I%29%20u
 nd%20Nik%20Riesmeier%20%28Wahlkreis%20136%2FLippe%20II%29%20besichtigt%20
 er%20zun%C3%A4chst%20den%20geplanten%20Standort%20f%C3%BCr%20das%20Amazon
 -Lager%20in%20Horn-Bad%20Meinberg%2C%20das%20Beller%20Feld.%0D%0AAnschlie
 %C3%9Fend%20stehen%20die%20drei%20GR%C3%9CNEN-Politiker%20in%20Detmold%20
 auf%20dem%20Marktplatz%20f%C3%BCr%20Gespr%C3%A4che%20zur%20Verf%C3%BCgung
 .%0D%0A%0D%0ASven%20Giegold%2C%20selbst%20geb%C3%BCrtiger%20Nordrhein-Wes
 tfale%2C%20ist%20u.%20a.%20Sprecher%20der%20deutschen%20Gr%C3%BCnen%20im%
 20Europaparlament%20und%20Obmann%20der%20gr%C3%BCnen%20Fraktion%20im%20Au
 sschuss%20f%C3%BCr%20Wirtschafts-%20und%20Finanzpolitik.%20Der%20Wirtscha
 ftswissenschaftler%20engagiert%20sich%20schwerpunktm%C3%A4%C3%9Fig%20f%C3
 %BCr%20die%20Regulierung%20der%20Finanzm%C3%A4rkte%20und%20f%C3%BCr%20die
 %20%C3%B6kologische%20Transformation%20der%20europ%C3%A4ischen%20Wirtscha
 ft.%0D%0A%0D%0AMit%20dem%20Besuch%20auf%20dem%20Beller%20Feld%20wollen%20
 die%20GR%C3%9CNEN%20lokale%20B%C3%BCrger%2Ainneninitiativen%20gegen%20das
 %20geplante%20Amazon-Lager%20unterst%C3%BCtzen.%20Die%20Bewohner%2Ainnen%
 20der%20Region%20bef%C3%BCrchten%20neben%20der%20enormen%20Fl%C3%A4chenve
 rsiegelung%20und%20damit%20verbundenen%20Hochwassergefahren%20auch%20ein%
 20erh%C3%B6htes%20Verkehrsaufkommen%20und%20eine%20weitere%20Schw%C3%A4ch
 ung%20des%20Einzelhandels%20in%20den%20Innenst%C3%A4dten.%0D%0A%0D%0A%26n
 bsp%3B%0D%0A%3Ch6%3EAnschlussveranstaltung%20in%20Detmold%3A%3C%2Fh6%3E%0
 D%0AUm%20%C3%BCber%20die%20Marktmacht%20von%20Amazon%20zu%20sprechen%2C%2
 0steht%20mit%20Sven%20Giegold%20ab%2014%3A00%20Uhr%20ein%20engagierter%20
 Experte%20f%C3%BCr%20Wirtschafts-%20und%20Steuerpolitik%20auf%20dem%20Mar
 ktplatz%20f%C3%BCr%20Gespr%C3%A4che%20zur%20Verf%C3%BCgung.%20Robin%20Wag
 ener%20und%20Nik%20Riesmeier%20bringen%20neben%20ihrem%20Fachwissen%20auc
 h%20die%20Kenntnis%20um%20regionale%20Strukturen%20und%20Netzwerke%20mit.
 ":Am kommenden Mittwoch\, d. 22.09.\, kommt der Europa-Abgeordnete Sven G
 iegold nach Lippe.\n\nMit den beiden lippischen Bundestagskandidaten Robi
 n Wagener (Wahlkreis 135/Lippe I) und Nik Riesmeier (Wahlkreis 136/Lippe 
 II) besichtigt er zunächst den geplanten Standort für das Amazon-Lager 
 in Horn-Bad Meinberg\, das Beller Feld.\n\nAnschließend stehen die drei 
 GRÜNEN-Politiker in Detmold auf dem Marktplatz für Gespräche zur Verf
 ügung.\n\nSven Giegold\, selbst gebürtiger Nordrhein-Westfale\, ist u. 
 a. Sprecher der deutschen Grünen im Europaparlament und Obmann der grün
 en Fraktion im Ausschuss für Wirtschafts- und Finanzpolitik. Der Wirtsch
 aftswissenschaftler engagiert sich schwerpunktmäßig für die Regulierun
 g der Finanzmärkte und für die ökologische Transformation der europäi
 schen Wirtschaft.\n\nMit dem Besuch auf dem Beller Feld wollen die GRÜNE
 N lokale Bürger*inneninitiativen gegen das geplante Amazon-Lager unterst
 ützen. Die Bewohner*innen der Region befürchten neben der enormen Fläc
 henversiegelung und damit verbundenen Hochwassergefahren auch ein erhöht
 es Verkehrsaufkommen und eine weitere Schwächung des Einzelhandels in de
 n Innenstädten.\n\n \n\nAnschlussveranstaltung in Detmold:\n\nUm über 
 die Marktmacht von Amazon zu sprechen\, steht mit Sven Giegold ab 14:00 U
 hr ein engagierter Experte für Wirtschafts- und Steuerpolitik auf dem Ma
 rktplatz für Gespräche zur Verfügung. Robin Wagener und Nik Riesmeier 
 bringen neben ihrem Fachwissen auch die Kenntnis um regionale Strukturen 
 und Netzwerke mit.
CLASS:PUBLIC
DTSTART;TZID=Europe/Berlin:20210922T123000
DTEND;TZID=Europe/Berlin:20210922T133000
DTSTAMP:20260424T102147
END:VEVENT
END:VCALENDAR