BEGIN:VCALENDAR
VERSION:2.0
PRODID:gruene-lippe.de
METHOD:PUBLISH
BEGIN:VTIMEZONE
TZID:Europe/Berlin
X-LIC-LOCATION:Europe/Berlin
BEGIN:DAYLIGHT
TZOFFSETFROM:+0100
TZOFFSETTO:+0200
TZNAME:CEST
DTSTART:19700329T020000
RRULE:FREQ=YEARLY;INTERVAL=1;BYDAY=-1SU;BYMONTH=3
END:DAYLIGHT
BEGIN:STANDARD
TZOFFSETFROM:+0200
TZOFFSETTO:+0100
TZNAME:CET
DTSTART:19701025T030000
RRULE:FREQ=YEARLY;INTERVAL=1;BYDAY=-1SU;BYMONTH=10
END:STANDARD
END:VTIMEZONE
BEGIN:VEVENT
UID:<span class="__eae_r13">q89o8sn6r41pn185662r7n64qr4rrr5q@tehrar-yvccr.qr</span>
URL;VALUE=URI:https://gruene-lippe.de/termine/vorstandssitzung-9/
LOCATION:Kreisgeschäftsstelle, Paulinenstr. 89, Det
SUMMARY:verschoben auf den 14. Juni! / Vorstandssitzung
DESCRIPTION;ALTREP="data:text/html,":
CLASS:PUBLIC
DTSTART;TZID=Europe/Berlin:20240521T180000
DTEND;TZID=Europe/Berlin:20240521T190000
DTSTAMP:20260420T101330
END:VEVENT
END:VCALENDAR